BEGIN:VCALENDAR
VERSION:2.0
CALSCALE:GREGORIAN
PRODID:-//Diputació de Barcelona//DibaCMS//EN
BEGIN:VEVENT
UID:3078
DTSTAMP:20260420T144650
DTSTART:20230525T173000
DTEND:20230525T193000
SUMMARY:Juguem en família 
LOCATION:
METHOD:PUBLISH
X-WR-CALNAME:monistrolm@monistroldemontserrat.cat
X-WR-TIMEZONE:Europe/Madrid
DESCRIPTION:Juguem en família a Monistrol de Montserrat!

Jornada de joc familiar dinamitzat per les monitores del Juga Bages.

Jocs de taula, de construcció, d'equilibri de punteria i un taller.


	Dijous 25 de maig de 17.30 h a 19.30 h a la Pl.de la Font Gran.


URI:https://www.monistroldemontserrat.cat/sobras/govern/agenda-politica/3078-juguem-en-familia-.html
CLASS:PUBLIC
END:VEVENT
END:VCALENDAR
