BEGIN:VCALENDAR
VERSION:2.0
CALSCALE:GREGORIAN
PRODID:-//Diputació de Barcelona//DibaCMS//EN
BEGIN:VEVENT
UID:3080
DTSTAMP:20260420T112245
DTSTART:20230521T083000
DTEND:20230521T140000
SUMMARY:Sortida matinal per Rellinars 
LOCATION:
METHOD:PUBLISH
X-WR-CALNAME:monistrolm@monistroldemontserrat.cat
X-WR-TIMEZONE:Europe/Madrid
DESCRIPTION:El Club Muntanyenc Monistrolenc organitza una sortida matinal per Rellinars el 21 de Maig de 2023;


	Sortida: 8.30h Piscines de Monistrol, cotxes propis fins a Rellinars.
	Cal dur esmorzar i beguda.
	Ruta fàcil, 8,5 Km - Tornem a dinar a casa.


ACTE OBERT A TOTHOM! Cal però valorar les possibilitats personals, per no distorsionar la marxa del grup, el participant esta obligat a acceptar que el C.M.M, no es fa fiador dels danys que puguin patir o causar els caminants NO federats.

URI:https://www.monistroldemontserrat.cat/sobras/govern/agenda-politica/3080-sortida-matinal-per-rellinars-.html
CLASS:PUBLIC
END:VEVENT
END:VCALENDAR
