BEGIN:VCALENDAR
VERSION:2.0
CALSCALE:GREGORIAN
PRODID:-//Diputació de Barcelona//DibaCMS//EN
BEGIN:VEVENT
UID:3102
DTSTAMP:20260420T144457
DTSTART:20230618T180000
DTEND:20230618T200000
SUMMARY:Roda de Cant Coral
LOCATION:
METHOD:PUBLISH
X-WR-CALNAME:monistrolm@monistroldemontserrat.cat
X-WR-TIMEZONE:Europe/Madrid
DESCRIPTION:Lloc: Art i Esplai

Horari: 18 hores 

URI:https://www.monistroldemontserrat.cat//continguts//roda-de-cant-coral.html
CLASS:PUBLIC
END:VEVENT
END:VCALENDAR
