BEGIN:VCALENDAR
VERSION:2.0
CALSCALE:GREGORIAN
PRODID:-//Diputació de Barcelona//DibaCMS//EN
BEGIN:VEVENT
UID:3103
DTSTAMP:20260420T144427
DTSTART:20230617T170000
DTEND:20230617T210000
SUMMARY:Toca donar, toca rebre Vida
LOCATION:
METHOD:PUBLISH
X-WR-CALNAME:monistrolm@monistroldemontserrat.cat
X-WR-TIMEZONE:Europe/Madrid
DESCRIPTION:Lloc: Espai Joan Carles Amat

Hora: de 17 a 21 hores

URI:https://www.monistroldemontserrat.cat//continguts//3103-toca-donar-toca-rebre-vida.html
CLASS:PUBLIC
END:VEVENT
END:VCALENDAR
