BEGIN:VCALENDAR
VERSION:2.0
CALSCALE:GREGORIAN
PRODID:-//Diputació de Barcelona//DibaCMS//EN
BEGIN:VEVENT
UID:3131
DTSTAMP:20260420T125522
DTSTART:20230719T000000
DTEND:20230725T000000
SUMMARY:FESTA MAJOR D'ESTIU
LOCATION:
METHOD:PUBLISH
X-WR-CALNAME:monistrolm@monistroldemontserrat.cat
X-WR-TIMEZONE:Europe/Madrid
DESCRIPTION:
URI:https://www.monistroldemontserrat.cat//continguts//3131-festa-major-destiu.html
CLASS:PUBLIC
END:VEVENT
END:VCALENDAR
