BEGIN:VCALENDAR
VERSION:2.0
CALSCALE:GREGORIAN
PRODID:-//Diputació de Barcelona//DibaCMS//EN
BEGIN:VEVENT
UID:3135
DTSTAMP:20260420T130810
DTSTART:20230719T200000
DTEND:20230719T210000
SUMMARY: Ple municipal extraordinari 19 de juliol de 2023
LOCATION:
METHOD:PUBLISH
X-WR-CALNAME:monistrolm@monistroldemontserrat.cat
X-WR-TIMEZONE:Europe/Madrid
DESCRIPTION:
URI:https://www.monistroldemontserrat.cat//continguts//-ple-municipal-extraordinari-19-de-juliol-de-2023.html
CLASS:PUBLIC
END:VEVENT
END:VCALENDAR
