BEGIN:VCALENDAR
VERSION:2.0
CALSCALE:GREGORIAN
PRODID:-//Diputació de Barcelona//DibaCMS//EN
BEGIN:VEVENT
UID:3153
DTSTAMP:20260420T195029
DTSTART:20230824T103000
DTEND:20230824T130000
SUMMARY:Oficina mòbil d'Informació al Consumidor
LOCATION:
METHOD:PUBLISH
X-WR-CALNAME:monistrolm@monistroldemontserrat.cat
X-WR-TIMEZONE:Europe/Madrid
DESCRIPTION:Horari: 10.30 h a 13.00h

Lloc: Plaça de la Font Gran

 

URI:https://www.monistroldemontserrat.cat/sobras/govern/agenda-politica/3153-oficina-mobil-dinformacio-al-consumidor.html
CLASS:PUBLIC
END:VEVENT
END:VCALENDAR
