BEGIN:VCALENDAR
VERSION:2.0
CALSCALE:GREGORIAN
PRODID:-//Diputació de Barcelona//DibaCMS//EN
BEGIN:VEVENT
UID:3224
DTSTAMP:20260420T233750
DTSTART:20231224T100000
DTEND:20231224T130000
SUMMARY:Caminada nadalenca
LOCATION:
METHOD:PUBLISH
X-WR-CALNAME:monistrolm@monistroldemontserrat.cat
X-WR-TIMEZONE:Europe/Madrid
DESCRIPTION:Sortida des de l'Espai Joan Carles i Amat.

Cal inscripció prèvia.

URI:https://www.monistroldemontserrat.cat/sobras/govern/agenda-politica/3224-caminada-nadalenca.html
CLASS:PUBLIC
END:VEVENT
END:VCALENDAR
