BEGIN:VCALENDAR
VERSION:2.0
CALSCALE:GREGORIAN
PRODID:-//Diputació de Barcelona//DibaCMS//EN
BEGIN:VEVENT
UID:3227
DTSTAMP:20260420T144814
DTSTART:20231125T000000
DTEND:20231125T000000
SUMMARY:25 novembre 2023 dia per l'eliminació de la violència contra les dones.
LOCATION:
METHOD:PUBLISH
X-WR-CALNAME:monistrolm@monistroldemontserrat.cat
X-WR-TIMEZONE:Europe/Madrid
DESCRIPTION:
URI:https://www.monistroldemontserrat.cat//continguts//3227-25-novembre-2023-dia-per-leliminacio-de-la-violencia-contra-les-dones.html
CLASS:PUBLIC
END:VEVENT
END:VCALENDAR
