BEGIN:VCALENDAR
VERSION:2.0
CALSCALE:GREGORIAN
PRODID:-//Diputació de Barcelona//DibaCMS//EN
BEGIN:VEVENT
UID:3339
DTSTAMP:20260420T195856
DTSTART:20240418T103000
DTEND:20240418T130000
SUMMARY:Unitat Móbil d'Informació al Consumidor
LOCATION:
METHOD:PUBLISH
X-WR-CALNAME:monistrolm@monistroldemontserrat.cat
X-WR-TIMEZONE:Europe/Madrid
DESCRIPTION:El proper dia 18 d'Abril de 2024 tindrem estacionat l'Unitat Mòbil d'Informació al Consumidor (UMIC).

Ens atendran per gestionar i tramitar consultes, queixes, reclamacions i denúncies en l`àmbit del consum. Per personal de la Diputació de Barcelona de manera gratuïta i personalitzada.

URI:https://www.monistroldemontserrat.cat//continguts//3339-unitat-mobil-dinformacio-al-consumidor.html
CLASS:PUBLIC
END:VEVENT
END:VCALENDAR
