BEGIN:VCALENDAR
VERSION:2.0
CALSCALE:GREGORIAN
PRODID:-//Diputació de Barcelona//DibaCMS//EN
BEGIN:VEVENT
UID:3341
DTSTAMP:20260420T182922
DTSTART:20240414T000000
DTEND:20240414T230000
SUMMARY:Club Muntanyenc Monistrol: Ôdena : Caminada + Dinar
LOCATION:Piscines Monistrol
<iframe src="https://www.google.com/maps/embed?pb=!1m18!1m12!1m3!1d482.67188115358374!2d1.8463730709521762!3d41.615537087584016!2m3!1f0!2f0!3f0!3m2!1i1024!2i768!4f13.1!3m3!1m2!1s0x12a4f56def12e6d3%3A0x113eaa2a2eb65f4c!2sPiscina%20Municipal%20Monistrol!5e1!3m2!1sca!2ses!4v1712564674756!5m2!1sca!2ses" width="600" height="450" style="border:0;" allowfullscreen="" loading="lazy" referrerpolicy="no-referrer-when-downgrade"></iframe> 
METHOD:PUBLISH
X-WR-CALNAME:monistrolm@monistroldemontserrat.cat
X-WR-TIMEZONE:Europe/Madrid
DESCRIPTION:El club Muntanyenc Monistrolenc organitza sortida  a Ôdena : Caminada + Dinar.

Per el dia: Diumentge 14 d' Abril del 2024.

URI:https://www.monistroldemontserrat.cat//continguts//3341-club-muntanyenc-monistrol-odena--caminada--dinar.html
CLASS:PUBLIC
END:VEVENT
END:VCALENDAR
