BEGIN:VCALENDAR
VERSION:2.0
CALSCALE:GREGORIAN
PRODID:-//Diputació de Barcelona//DibaCMS//EN
BEGIN:VEVENT
UID:3351
DTSTAMP:20260420T195307
DTSTART:20240422T000000
DTEND:20240422T220000
SUMMARY:Reunió Informatica al Cap de Monistrol de Montserrat
LOCATION:Carrer Sant Joan, 1, 08691 Monistrol de Montserrat
METHOD:PUBLISH
X-WR-CALNAME:monistrolm@monistroldemontserrat.cat
X-WR-TIMEZONE:Europe/Madrid
DESCRIPTION:Reunio informatica per la situació i el funcionament actual del Cap de Monistrol de Montserrat.

URI:https://www.monistroldemontserrat.cat//continguts//reunio-informatica-al-cap-de-monistrol-de-montserrat.html
CLASS:PUBLIC
END:VEVENT
END:VCALENDAR
