BEGIN:VCALENDAR
VERSION:2.0
CALSCALE:GREGORIAN
PRODID:-//Diputació de Barcelona//DibaCMS//EN
BEGIN:VEVENT
UID:3353
DTSTAMP:20260420T214658
DTSTART:20240422T000000
DTEND:20240422T190000
SUMMARY:Reunió informativa d'obres C-55 a Monistrol de Montserrat
LOCATION:
METHOD:PUBLISH
X-WR-CALNAME:monistrolm@monistroldemontserrat.cat
X-WR-TIMEZONE:Europe/Madrid
DESCRIPTION:Reunió informativa sobre l'afectació de les obres a la C-55 en Monistrol de Montserrat.

La Reunió tindra joc  el proper ddia 22 d'Abril a les 19:30 h a Can Gibert.

Obert a Tothom.

URI:https://www.monistroldemontserrat.cat//continguts//reunio-informativa-dobres-c-55-a-monistrol-de-montserrat.html
CLASS:PUBLIC
END:VEVENT
END:VCALENDAR
