BEGIN:VCALENDAR
VERSION:2.0
CALSCALE:GREGORIAN
PRODID:-//Diputació de Barcelona//DibaCMS//EN
BEGIN:VEVENT
UID:3355
DTSTAMP:20260420T182751
DTSTART:20240423T000000
DTEND:20240423T220000
SUMMARY:Sant Jordi 2024 Monistrol de Montserrat
LOCATION:Plaça Font Gran 
METHOD:PUBLISH
X-WR-CALNAME:monistrolm@monistroldemontserrat.cat
X-WR-TIMEZONE:Europe/Madrid
DESCRIPTION:
URI:https://www.monistroldemontserrat.cat//continguts//sant-jordi-2024-monistrol-de-montserrat.html
CLASS:PUBLIC
END:VEVENT
END:VCALENDAR
