BEGIN:VCALENDAR
VERSION:2.0
CALSCALE:GREGORIAN
PRODID:-//Diputació de Barcelona//DibaCMS//EN
BEGIN:VEVENT
UID:3377
DTSTAMP:20260420T163807
DTSTART:20240516T000000
DTEND:20240516T000000
SUMMARY:Debat amb Núria López-Bigas
LOCATION:
METHOD:PUBLISH
X-WR-CALNAME:monistrolm@monistroldemontserrat.cat
X-WR-TIMEZONE:Europe/Madrid
DESCRIPTION:Dia 17 de maig, a les 7 de la tarda, a la Sala Joan Carles Amat.

URI:https://www.monistroldemontserrat.cat/sobras/govern/agenda-politica/3377-debat-amb-nuria-lopez-bigas.html
CLASS:PUBLIC
END:VEVENT
END:VCALENDAR
