BEGIN:VCALENDAR
VERSION:2.0
CALSCALE:GREGORIAN
PRODID:-//Diputació de Barcelona//DibaCMS//EN
BEGIN:VEVENT
UID:3405
DTSTAMP:20260420T183037
DTSTART:20240616T000000
DTEND:20240616T220000
SUMMARY:Club Muntanyenc Monistrolenc Ruta Matinal a Navarcles
LOCATION:
METHOD:PUBLISH
X-WR-CALNAME:monistrolm@monistroldemontserrat.cat
X-WR-TIMEZONE:Europe/Madrid
DESCRIPTION:Sortida desde Piscina Municipal de Monistrol a les 8:30h.

URI:https://www.monistroldemontserrat.cat//continguts//3405-club-muntanyenc-monistrolenc-ruta-matinal-a-navarcles.html
CLASS:PUBLIC
END:VEVENT
END:VCALENDAR
