BEGIN:VCALENDAR
VERSION:2.0
CALSCALE:GREGORIAN
PRODID:-//Diputació de Barcelona//DibaCMS//EN
BEGIN:VEVENT
UID:3435
DTSTAMP:20260420T214729
DTSTART:20240724T000000
DTEND:20240728T000000
SUMMARY:Programació de la FESTA MAJOR de Monistrol de Montserrat 2024
LOCATION:
METHOD:PUBLISH
X-WR-CALNAME:monistrolm@monistroldemontserrat.cat
X-WR-TIMEZONE:Europe/Madrid
DESCRIPTION:Ja es aquí la nostra Festa Major. Els nostres carrers i barris s'omplen de joia, musica, cultura i tradició. Celebrem tot allò que ens uneix amb activitats per a tots els gustos i edats, unes festes a l'alçada del que Monistrol de Montserrat es mereix. Ballem, juguem i gaudim de la nostra gastrónomic des del respecte i la millor convivencia.
La Festa Major es realitza del dimecres 24 al dimarts 28 de juliol.
Podeu consultar la programació en els enllaços d'aquesta pàgina

URI:https://www.monistroldemontserrat.cat//continguts//3435-programacio-de-la-festa-major-de-monistrol-de-montserrat-2024.html
CLASS:PUBLIC
END:VEVENT
END:VCALENDAR
