BEGIN:VCALENDAR
VERSION:2.0
CALSCALE:GREGORIAN
PRODID:-//Diputació de Barcelona//DibaCMS//EN
BEGIN:VEVENT
UID:3452
DTSTAMP:20260420T212823
DTSTART:20240919T000000
DTEND:20240920T000000
SUMMARY:Jornades d'escalada i excursionisme Cavall Bernat
LOCATION:
METHOD:PUBLISH
X-WR-CALNAME:monistrolm@monistroldemontserrat.cat
X-WR-TIMEZONE:Europe/Madrid
DESCRIPTION:El grup Cavall Bernat us convida a unes jornades d'escalada i excursionisme en Collbató els pròxims dies 19 i 20 d'octubre.

Us podeu inscriure seguint les seguents instrucccions, tríptic adjunt.

Tiquet: 20€ un sol dia, 32€ els dos dies. Inclou dinar i bossa amb obsequi. Caldrà Iliurar el tiquet corresponent a cada dia per accedir-hi.
Inscripcions: correu a grupcavallbernat2010@gmail.com. Especificar si es va a caminar o a escalar

URI:https://www.monistroldemontserrat.cat//continguts//jornades-descalada-i-excursionisme-cavall-bernat.html
CLASS:PUBLIC
END:VEVENT
END:VCALENDAR
