BEGIN:VCALENDAR
VERSION:2.0
CALSCALE:GREGORIAN
PRODID:-//Diputació de Barcelona//DibaCMS//EN
BEGIN:VEVENT
UID:3472
DTSTAMP:20260420T182848
DTSTART:20241013T093000
DTEND:20241013T160000
SUMMARY:II Aniversari Monistrol Tennis taula club
LOCATION:
METHOD:PUBLISH
X-WR-CALNAME:monistrolm@monistroldemontserrat.cat
X-WR-TIMEZONE:Europe/Madrid
DESCRIPTION:Competició mixta, xerrada divulgativa, demostracions i dinar de germanor. Obert a tothom.

URI:https://www.monistroldemontserrat.cat//continguts//ii-aniversari-monistrol-tennis-taula-club.html
CLASS:PUBLIC
END:VEVENT
END:VCALENDAR
