BEGIN:VCALENDAR
VERSION:2.0
CALSCALE:GREGORIAN
PRODID:-//Diputació de Barcelona//DibaCMS//EN
BEGIN:VEVENT
UID:3483
DTSTAMP:20260420T165850
DTSTART:20241006T130000
DTEND:20241006T150000
SUMMARY:Danses del renaixement del festival Joan Carles i Amat
LOCATION:Plaça del Bo-bo 08691 Monistrol de Montserrat
METHOD:PUBLISH
X-WR-CALNAME:monistrolm@monistroldemontserrat.cat
X-WR-TIMEZONE:Europe/Madrid
DESCRIPTION:Participa Esbart Monistrol dansaire i Associació Joan Carles i Amat. Belisana RUIZ, Fix NICOLET i Antoni GUIROLA

URI:https://www.monistroldemontserrat.cat/sobras/govern/agenda-politica/danses-del-renaixement-del-festival-joan-carles-i-amat.html
CLASS:PUBLIC
END:VEVENT
END:VCALENDAR
