BEGIN:VCALENDAR
VERSION:2.0
CALSCALE:GREGORIAN
PRODID:-//Diputació de Barcelona//DibaCMS//EN
BEGIN:VEVENT
UID:3490
DTSTAMP:20260420T171233
DTSTART:20241024T103000
DTEND:20241024T130000
SUMMARY:Oficina Mòbil d'Informació al consumidor
LOCATION:Plaça Font Gran 
METHOD:PUBLISH
X-WR-CALNAME:monistrolm@monistroldemontserrat.cat
X-WR-TIMEZONE:Europe/Madrid
DESCRIPTION:L'oficina d'informació al consumidor per atendre i oferir-vos informació sobre temes de consum.

Hi serà el dia: Dijous 24 d' Octubre de 2024.

Horari : de 10:30 h a 13:00 hores

Lloc : Plaça de la Font Gran.

URI:https://www.monistroldemontserrat.cat/sobras/govern/agenda-politica/3490-oficina-mobil-dinformacio-al-consumidor.html
CLASS:PUBLIC
END:VEVENT
END:VCALENDAR
