BEGIN:VCALENDAR
VERSION:2.0
CALSCALE:GREGORIAN
PRODID:-//Diputació de Barcelona//DibaCMS//EN
BEGIN:VEVENT
UID:3492
DTSTAMP:20260420T171402
DTSTART:20241018T100000
DTEND:20241018T120000
SUMMARY:Activitat de la llar: Taller de Pilates
LOCATION:Carretera d’Abrera a Manresa s/n 08691 Monistrol de Montserrat
METHOD:PUBLISH
X-WR-CALNAME:monistrolm@monistroldemontserrat.cat
X-WR-TIMEZONE:Europe/Madrid
DESCRIPTION:Taller de pilates adreçat al públic general.

URI:https://www.monistroldemontserrat.cat//continguts//activitat-de-la-llar-taller-de-pilates.html
CLASS:PUBLIC
END:VEVENT
END:VCALENDAR
