BEGIN:VCALENDAR
VERSION:2.0
CALSCALE:GREGORIAN
PRODID:-//Diputació de Barcelona//DibaCMS//EN
BEGIN:VEVENT
UID:3495
DTSTAMP:20260420T233054
DTSTART:20241012T100000
DTEND:20241012T170000
SUMMARY:Monistrol Mountain Experience Day. 12 d'octubre 2024
LOCATION:Sala Joan Carles Amat 
METHOD:PUBLISH
X-WR-CALNAME:monistrolm@monistroldemontserrat.cat
X-WR-TIMEZONE:Europe/Madrid
DESCRIPTION:El proper dia 12 d'octubre de 2024  oferirem activitats d'escalada per a totes les edats.

A la Sala Joan Carles Amat : Exterior de 10:30 h  - 13:30 h. 

URI:https://www.monistroldemontserrat.cat/sobras/govern/agenda-politica/3495-monistrol-mountain-experience-day-12-doctubre-2024.html
CLASS:PUBLIC
END:VEVENT
END:VCALENDAR
