BEGIN:VCALENDAR
VERSION:2.0
CALSCALE:GREGORIAN
PRODID:-//Diputació de Barcelona//DibaCMS//EN
BEGIN:VEVENT
UID:3497
DTSTAMP:20260420T233842
DTSTART:20241109T080000
DTEND:20241109T140000
SUMMARY:Campanya de donació de sang 9 de novembre 2024
LOCATION:Plaça del Bo-bo 08691 Monistrol de Montserrat
METHOD:PUBLISH
X-WR-CALNAME:monistrolm@monistroldemontserrat.cat
X-WR-TIMEZONE:Europe/Madrid
DESCRIPTION:Tot el ciutadà que vulgui o pugui col·laborar amb el banc de sang.

El pròxim 9 novembre, de 10 a 14 h, la pl. BO-BO ( antic OAC) estarà habilitada per la donació de sang.

URI:https://www.monistroldemontserrat.cat//continguts//3497-campanya-de-donacio-de-sang-9-de-novembre-2024.html
CLASS:PUBLIC
END:VEVENT
END:VCALENDAR
