BEGIN:VCALENDAR
VERSION:2.0
CALSCALE:GREGORIAN
PRODID:-//Diputació de Barcelona//DibaCMS//EN
BEGIN:VEVENT
UID:3505
DTSTAMP:20260420T202440
DTSTART:20241027T160000
DTEND:20241027T180000
SUMMARY:Presentació del documental "Les Matonaires" ROQUES Projecció 2: Diumenge
LOCATION:Escenari Pg. de la Canaleta 
METHOD:PUBLISH
X-WR-CALNAME:monistrolm@monistroldemontserrat.cat
X-WR-TIMEZONE:Europe/Madrid
DESCRIPTION:
URI:https://www.monistroldemontserrat.cat/sobras/govern/agenda-politica/presentacio-del-documental-les-matonaires-roques-projeccio-2-diumenge.html
CLASS:PUBLIC
END:VEVENT
END:VCALENDAR
