BEGIN:VCALENDAR
VERSION:2.0
CALSCALE:GREGORIAN
PRODID:-//Diputació de Barcelona//DibaCMS//EN
BEGIN:VEVENT
UID:3530
DTSTAMP:20260421T013008
DTSTART:20241222T100000
DTEND:20241222T140000
SUMMARY:CAMINADA DE NADAL
LOCATION:Espai Joan Carles Amat (Avinguda de l'Abat Escarré, s/n) 
METHOD:PUBLISH
X-WR-CALNAME:monistrolm@monistroldemontserrat.cat
X-WR-TIMEZONE:Europe/Madrid
DESCRIPTION:Benvolgudes i benvolguts,

S'aproxima l'11a edició de la Caminada Nadalenca. Aquest any serà el dia 22 de desembre a les 10 h del matí. La sortida es farà des de l'Espai Joan Carles i Amat (Av. de l'Abat Escarré, s/n).

Cal inscripció prèvia a través del següent enllaç

URI:https://www.monistroldemontserrat.cat/sobras/govern/agenda-politica/caminada-de-nadal.html
CLASS:PUBLIC
END:VEVENT
END:VCALENDAR
