BEGIN:VCALENDAR
VERSION:2.0
CALSCALE:GREGORIAN
PRODID:-//Diputació de Barcelona//DibaCMS//EN
BEGIN:VEVENT
UID:3532
DTSTAMP:20260420T214616
DTSTART:20241130T100000
DTEND:20241130T200000
SUMMARY:FIRA DE NADAL
LOCATION:Plaça de la Font Gran - Zona de la Mentirosa - Passeig de la Canaleta 
METHOD:PUBLISH
X-WR-CALNAME:monistrolm@monistroldemontserrat.cat
X-WR-TIMEZONE:Europe/Madrid
DESCRIPTION:Ja estan obertes les inscripcions per participar a la Fira de Nadal de 2024 que es durà a terme el dissabte 30 de novembre a la plaça de la Font Gran, de 10 a 19:30h.

El termini per a la presentació de sol.licituds és fins el dia 24 de novembre inclòs. Cal presentar la sol.licitud que trobareu annexada a les bases i la documentació que es detalla. 

Gaudeix del mercat nadalenc, les activitats infantils, els espectacles en directe i l'ambient nadalenc.

Vine a encendre la llum de Monistrol.

URI:https://www.monistroldemontserrat.cat/sobras/govern/agenda-politica/fira-de-nadal.html
CLASS:PUBLIC
END:VEVENT
END:VCALENDAR
