BEGIN:VCALENDAR
VERSION:2.0
CALSCALE:GREGORIAN
PRODID:-//Diputació de Barcelona//DibaCMS//EN
BEGIN:VEVENT
UID:3536
DTSTAMP:20260420T214840
DTSTART:20241121T173000
DTEND:20241121T183000
SUMMARY:BIBLIOBÚS: "EXPLICA'M UNA TARDOR"
LOCATION:Espai Joan Carles Amat (Av. Abad Escarré s/n) 
METHOD:PUBLISH
X-WR-CALNAME:monistrolm@monistroldemontserrat.cat
X-WR-TIMEZONE:Europe/Madrid
DESCRIPTION:Activitat duta a terme pel bibliobús on hi haurà una actuació de contes amb cançons. La temàtica girarà en "Explica'm una tardor" i serà a càrrec de jomeloguisojomelo.com.

URI:https://www.monistroldemontserrat.cat//continguts//bibliobus-explicam-una-tardor.html
CLASS:PUBLIC
END:VEVENT
END:VCALENDAR
