BEGIN:VCALENDAR
VERSION:2.0
CALSCALE:GREGORIAN
PRODID:-//Diputació de Barcelona//DibaCMS//EN
BEGIN:VEVENT
UID:3553
DTSTAMP:20260420T214808
DTSTART:20241213T190000
DTEND:20241213T203000
SUMMARY:PROJECCIÓ I PRESENTACIÓ DEL DOCUMENTAL "ROQUES" 
LOCATION:
METHOD:PUBLISH
X-WR-CALNAME:monistrolm@monistroldemontserrat.cat
X-WR-TIMEZONE:Europe/Madrid
DESCRIPTION:
URI:https://www.monistroldemontserrat.cat//continguts//projeccio-i-presentacio-del-documental-roques-.html
CLASS:PUBLIC
END:VEVENT
END:VCALENDAR
