BEGIN:VCALENDAR
VERSION:2.0
CALSCALE:GREGORIAN
PRODID:-//Diputació de Barcelona//DibaCMS//EN
BEGIN:VEVENT
UID:3554
DTSTAMP:20260420T234929
DTSTART:20241215T114500
DTEND:20241215T150000
SUMMARY:Nadales per la marató de 3cat
LOCATION:C/ Pont, 3 08691 Monistrol de Montserrat
METHOD:PUBLISH
X-WR-CALNAME:monistrolm@monistroldemontserrat.cat
X-WR-TIMEZONE:Europe/Madrid
DESCRIPTION:
URI:https://www.monistroldemontserrat.cat//continguts//nadales-per-la-marato-de-3cat.html
CLASS:PUBLIC
END:VEVENT
END:VCALENDAR
