BEGIN:VCALENDAR
VERSION:2.0
CALSCALE:GREGORIAN
PRODID:-//Diputació de Barcelona//DibaCMS//EN
BEGIN:VEVENT
UID:3555
DTSTAMP:20260420T202133
DTSTART:20250104T160000
DTEND:20250104T210000
SUMMARY:SORTIDA AL PALAU BLAUGRANA
LOCATION:
METHOD:PUBLISH
X-WR-CALNAME:monistrolm@monistroldemontserrat.cat
X-WR-TIMEZONE:Europe/Madrid
DESCRIPTION:L'Ajuntament de Monistrol de Montserrat i l'entitat FUTSAL MONISTROL 2016 realitzaran la sortida conjunta al Palau Blaugrana.

Cal pagar el preu a l'entitat els dimarts o dijous de 19:00 a 20:00 hores. Data límit el pròxim dia 19 de desembre.

Places limitades!!

 

URI:https://www.monistroldemontserrat.cat/sobras/govern/agenda-politica/sortida-al-palau-blaugrana.html
CLASS:PUBLIC
END:VEVENT
END:VCALENDAR
