BEGIN:VCALENDAR
VERSION:2.0
CALSCALE:GREGORIAN
PRODID:-//Diputació de Barcelona//DibaCMS//EN
BEGIN:VEVENT
UID:3569
DTSTAMP:20260420T233441
DTSTART:20241223T173000
DTEND:20241223T190000
SUMMARY:VISITA DEL PARE NOEL A MONISTROL DE MONTSERRAT
LOCATION:Jardins de Cal Pla - 23 de desembre, 17:30 hores 
METHOD:PUBLISH
X-WR-CALNAME:monistrolm@monistroldemontserrat.cat
X-WR-TIMEZONE:Europe/Madrid
DESCRIPTION:El Pare Noel visita Monistrol de Montserrat el dia 23 de desembre a les 17:30. Serà als Jardins de Cal Pla

URI:https://www.monistroldemontserrat.cat/sobras/govern/agenda-politica/visita-del-pare-noel-a-monistrol-de-montserrat.html
CLASS:PUBLIC
END:VEVENT
END:VCALENDAR
