BEGIN:VCALENDAR
VERSION:2.0
CALSCALE:GREGORIAN
PRODID:-//Diputació de Barcelona//DibaCMS//EN
BEGIN:VEVENT
UID:3571
DTSTAMP:20260421T013033
DTSTART:20241220T180000
DTEND:20241220T190000
SUMMARY:VINE A FER CAGAR EL TIÓ
LOCATION:Plaça de la Font Gran 
METHOD:PUBLISH
X-WR-CALNAME:monistrolm@monistroldemontserrat.cat
X-WR-TIMEZONE:Europe/Madrid
DESCRIPTION:El divendres 20 de desembre, a les 18 hores, vine a la plaça de la Font Gran a fer cagar el tió.

URI:https://www.monistroldemontserrat.cat/sobras/govern/agenda-politica/vine-a-fer-cagar-el-tio.html
CLASS:PUBLIC
END:VEVENT
END:VCALENDAR
