BEGIN:VCALENDAR
VERSION:2.0
CALSCALE:GREGORIAN
PRODID:-//Diputació de Barcelona//DibaCMS//EN
BEGIN:VEVENT
UID:3578
DTSTAMP:20260420T233023
DTSTART:20250105T180000
DTEND:20250105T193000
SUMMARY:CAVALCADA, REIS MAGS 
LOCATION:
METHOD:PUBLISH
X-WR-CALNAME:monistrolm@monistroldemontserrat.cat
X-WR-TIMEZONE:Europe/Madrid
DESCRIPTION:LA CAVALCADA DELS REIS MAGS SERÀ EL DIA 5 DE GENER A LES 18:00 HORES

RECORREGUT:

PLAÇA FONT GRAN / CARRER SANT PERE / CARRER MANRESA / CARRER JULIÀ FUCHS / CARRER BALMES / CARRER DEL PLA DEGUT A LA CONCENTRACIÓ D’ESPECTADORS I LES RESTRICCIONS DE TRÀNSIT, ES RECOMANA ESTACIONAR ELS VEHICLES FORA DEL CENTRE URBÀ

URI:https://www.monistroldemontserrat.cat/sobras/govern/agenda-politica/cavalcada-reis-mags-.html
CLASS:PUBLIC
END:VEVENT
END:VCALENDAR
