BEGIN:VCALENDAR
VERSION:2.0
CALSCALE:GREGORIAN
PRODID:-//Diputació de Barcelona//DibaCMS//EN
BEGIN:VEVENT
UID:3579
DTSTAMP:20260420T200111
DTSTART:20250103T173000
DTEND:20250103T190000
SUMMARY:PATGE REIAL
LOCATION:
METHOD:PUBLISH
X-WR-CALNAME:monistrolm@monistroldemontserrat.cat
X-WR-TIMEZONE:Europe/Madrid
DESCRIPTION:El divendres 3 de gener a les 17:30 tindrà lloc la rebuda del Patge Reial a la plaça del Bo-Bo.

 

Us esperem!

URI:https://www.monistroldemontserrat.cat/sobras/govern/agenda-politica/patge-reial.html
CLASS:PUBLIC
END:VEVENT
END:VCALENDAR
