BEGIN:VCALENDAR
VERSION:2.0
CALSCALE:GREGORIAN
PRODID:-//Diputació de Barcelona//DibaCMS//EN
BEGIN:VEVENT
UID:3580
DTSTAMP:20260420T184547
DTSTART:20250101T010000
DTEND:20250101T010000
SUMMARY:CAP D'ANY A MONISTROL DE MONTSERRAT
LOCATION:
METHOD:PUBLISH
X-WR-CALNAME:monistrolm@monistroldemontserrat.cat
X-WR-TIMEZONE:Europe/Madrid
DESCRIPTION:Monistrol de Montserrat celebra l'entrada d'any a la Sala Joan Carles Amat.

Vine a l'1 i gaudeix

 

 

URI:https://www.monistroldemontserrat.cat//continguts//cap-dany-a-monistrol-de-montserrat.html
CLASS:PUBLIC
END:VEVENT
END:VCALENDAR
