BEGIN:VCALENDAR
VERSION:2.0
CALSCALE:GREGORIAN
PRODID:-//Diputació de Barcelona//DibaCMS//EN
BEGIN:VEVENT
UID:3581
DTSTAMP:20260420T202315
DTSTART:20250102T170000
DTEND:20250102T180000
SUMMARY:TALLER DE FANALETS
LOCATION:
METHOD:PUBLISH
X-WR-CALNAME:monistrolm@monistroldemontserrat.cat
X-WR-TIMEZONE:Europe/Madrid
DESCRIPTION:El dia 2 de gener a les 17:00 hores, vine a fer el teu fanalet a la Llar de Monistrol. 

Tant gent gran com joves podeu venir a conviure una tarda on també hi haurà lloc als jocs de taula.

Esperem la vostra presència!!

 

URI:https://www.monistroldemontserrat.cat/sobras/govern/agenda-politica/taller-de-fanalets.html
CLASS:PUBLIC
END:VEVENT
END:VCALENDAR
