BEGIN:VCALENDAR
VERSION:2.0
CALSCALE:GREGORIAN
PRODID:-//Diputació de Barcelona//DibaCMS//EN
BEGIN:VEVENT
UID:3599
DTSTAMP:20260420T215114
DTSTART:20250213T103000
DTEND:20250213T130000
SUMMARY:OFICINA MÒBIL D'INFORMACIÓ AL CONSUMIDOR
LOCATION:Plaça de la Font Gran 
METHOD:PUBLISH
X-WR-CALNAME:monistrolm@monistroldemontserrat.cat
X-WR-TIMEZONE:Europe/Madrid
DESCRIPTION:Visita de l'Oficina mòbil d'informació al consumidor de la Diputació de Barcelona el dia 13 de febrer de 2025 de 10:30 a 13 hores, a la Plaça de la Font Gran. 

URI:https://www.monistroldemontserrat.cat//continguts//3599-oficina-mobil-dinformacio-al-consumidor.html
CLASS:PUBLIC
END:VEVENT
END:VCALENDAR
