BEGIN:VCALENDAR
VERSION:2.0
CALSCALE:GREGORIAN
PRODID:-//Diputació de Barcelona//DibaCMS//EN
BEGIN:VEVENT
UID:3600
DTSTAMP:20260420T233302
DTSTART:20250201T100000
DTEND:20250201T140000
SUMMARY:TOCA DONAR SANG
LOCATION:Plaça del Bo-bó 
METHOD:PUBLISH
X-WR-CALNAME:monistrolm@monistroldemontserrat.cat
X-WR-TIMEZONE:Europe/Madrid
DESCRIPTION:Unitat mòbil  1 de febrer, de 10 a 14 hores.

Toca donar sang, toca rebre vida.

 

URI:https://www.monistroldemontserrat.cat//continguts//toca-donar-sang.html
CLASS:PUBLIC
END:VEVENT
END:VCALENDAR
