BEGIN:VCALENDAR
VERSION:2.0
CALSCALE:GREGORIAN
PRODID:-//Diputació de Barcelona//DibaCMS//EN
BEGIN:VEVENT
UID:3606
DTSTAMP:20260420T234334
DTSTART:20250309T123000
DTEND:20250309T173000
SUMMARY:Jornada de portes obertes escolania de Montserrat
LOCATION:Escolania de Montserrat 
METHOD:PUBLISH
X-WR-CALNAME:monistrolm@monistroldemontserrat.cat
X-WR-TIMEZONE:Europe/Madrid
DESCRIPTION:Jornada de Portes Obertes, tindrà lloc el diumenge dia 9 de març de 2025.


	Formulari d'Inscripció
	Més informació


URI:https://www.monistroldemontserrat.cat//continguts//jornada-de-portes-obertes-escolania-de-montserrat.html
CLASS:PUBLIC
END:VEVENT
END:VCALENDAR
