BEGIN:VCALENDAR
VERSION:2.0
CALSCALE:GREGORIAN
PRODID:-//Diputació de Barcelona//DibaCMS//EN
BEGIN:VEVENT
UID:3611
DTSTAMP:20260420T233421
DTSTART:20250308T170000
DTEND:20250309T050000
SUMMARY:Carnaval 2025
LOCATION:Plaça de la Font Gran 
METHOD:PUBLISH
X-WR-CALNAME:monistrolm@monistroldemontserrat.cat
X-WR-TIMEZONE:Europe/Madrid
DESCRIPTION: Arriba la festa més esbojarrada de l’any! Prepareu les disfresses perquè viurem una tarda plena de diversió, color i música.

Programa:


	17h - Plaça Països Catalans: Inici de la Rua
	18h - Plaça Font Gran: Concurs de disfresses, comparses i carrosses + Animació infantil
	19:30h - Plaça Font Gran: Entrega de premis del Concurs de Carnaval i del Concurs d’ornamentació nadalenca
	23h - Sala Joan Carles Amat: Gran Festa de Carnaval


Vine i gaudeix d’un Carnaval ple de màgia i alegria! Qui tindrà la disfressa més original? Ho descobrirem junts!

Us podeu inscriure en el concurs de disfresses mitjançant el següent enllaç: https://docs.google.com/forms/d/1LcFGFcxQNPZG6n5hLXRH5FaY8waQHKhUDMI45gK_c_4/edit?pli=1

PROTOCOL DE PLUJA:

DEGUT A LA PREVISIÓ METEOROLÒGICA PEL DISSABTE DIA 8 DE MARÇ, EN CAS DE PLUJA, ELS ACTES DEL CARNAVAL DE MONISTROL DE MONTSERRAT ES DURAN A TERME AL PAVELLÓ POLIESPORTIU EN ELS MATEIXOS HORARIS.


 


URI:https://www.monistroldemontserrat.cat//continguts//carnaval-2025.html
CLASS:PUBLIC
END:VEVENT
END:VCALENDAR
