BEGIN:VCALENDAR
VERSION:2.0
CALSCALE:GREGORIAN
PRODID:-//Diputació de Barcelona//DibaCMS//EN
BEGIN:VEVENT
UID:3628
DTSTAMP:20260421T031003
DTSTART:20250218T180000
DTEND:20250218T190000
SUMMARY:Reunió Presentació Consell d'Infants
LOCATION:Sala d'actes de Can Gibert 
METHOD:PUBLISH
X-WR-CALNAME:monistrolm@monistroldemontserrat.cat
X-WR-TIMEZONE:Europe/Madrid
DESCRIPTION:Benvolgudes famílies de Monistrol:
El pròxim dimarts 18 de febrer durem a terme una reunió formativa sobre el consell d'infants.
Lloc: Sala d'actes de Can Gibert
Hora: 18:00

​​​​​​​S'informarà de l'objectiu del consell i en què consisteix.


 


URI:https://www.monistroldemontserrat.cat//continguts//reunio-presentacio-consell-dinfants.html
CLASS:PUBLIC
END:VEVENT
END:VCALENDAR
