BEGIN:VCALENDAR
VERSION:2.0
CALSCALE:GREGORIAN
PRODID:-//Diputació de Barcelona//DibaCMS//EN
BEGIN:VEVENT
UID:3633
DTSTAMP:20260420T220919
DTSTART:20250306T180000
DTEND:20250306T200000
SUMMARY:Reunió d'associacions i entitats amb l'ajuntament
LOCATION:Carrer Sant Joan, 1, 08691 Monistrol de Montserrat
METHOD:PUBLISH
X-WR-CALNAME:monistrolm@monistroldemontserrat.cat
X-WR-TIMEZONE:Europe/Madrid
DESCRIPTION:L'ajuntament de Monistrol de Montserrat convoca una reunió amb totes les associacions i entitats del municipi per tractar temes d'interès i treballar plegats en les activitats i iniciatives locals

La vostra veu compta!
Participa i suma pel futur de Monistrol de Montserrat!

URI:https://www.monistroldemontserrat.cat//continguts//reunio-dassociacions-i-entitats-amb-lajuntament.html
CLASS:PUBLIC
END:VEVENT
END:VCALENDAR
