BEGIN:VCALENDAR
VERSION:2.0
CALSCALE:GREGORIAN
PRODID:-//Diputació de Barcelona//DibaCMS//EN
BEGIN:VEVENT
UID:3643
DTSTAMP:20260421T000617
DTSTART:20250524T093000
DTEND:20250524T121500
SUMMARY:7a edició de la vertical de Montserrat
LOCATION:Abadia de Montserrat 
METHOD:PUBLISH
X-WR-CALNAME:monistrolm@monistroldemontserrat.cat
X-WR-TIMEZONE:Europe/Madrid
DESCRIPTION:📢 INFORMACIÓ SOBRE LA 7a EDICIÓ DE LA VERTICAL MONTSERRAT

Aquests són els horaris de la cursa i de la inscripció:

Obertura d'inscripcions
Dijous, 20 de febrer, a les 11.00 hores.
Entrega de dorsals
Dissabte, 24 de maig, de 7:30 a 10:30 del matí.
Plaça de Santa Maria de Montserrat

Lliurament de premis
Dissabte, 24 de maig, a les 12.15 del matí.
Plaça de Santa Maria de Montserrat

Sortida dels participants
El primer corredor sortirà a les 9:30 de l'estació inferior del funicular de la Santa Cova.
S'ha de tenir present, que per accedir a l'estació inferior de funicular de la Santa Cova, punt de sortida dels corredors, s'ha de fer caminant pel camí de la Santa Cova, 10 minuts
aproximadament.

Aquest camí s'agafa davant de la carpa de l'organització on es recullen els dorsals.

URI:https://www.monistroldemontserrat.cat/sobras/govern/agenda-politica/7a-edicio-de-la-vertical-de-montserrat.html
CLASS:PUBLIC
END:VEVENT
END:VCALENDAR
