BEGIN:VCALENDAR
VERSION:2.0
CALSCALE:GREGORIAN
PRODID:-//Diputació de Barcelona//DibaCMS//EN
BEGIN:VEVENT
UID:3650
DTSTAMP:20260420T234621
DTSTART:20250307T151500
DTEND:20250307T180000
SUMMARY:Portes obertes en la escola Sant Pere
LOCATION:C/ Escoles 23-27 08691 Monistrol de Montserrat
METHOD:PUBLISH
X-WR-CALNAME:monistrolm@monistroldemontserrat.cat
X-WR-TIMEZONE:Europe/Madrid
DESCRIPTION:Portes obertes en la escola Sant Pere

URI:https://www.monistroldemontserrat.cat//continguts//portes-obertes-en-la-escola-sant-pere.html
CLASS:PUBLIC
END:VEVENT
END:VCALENDAR
