BEGIN:VCALENDAR
VERSION:2.0
CALSCALE:GREGORIAN
PRODID:-//Diputació de Barcelona//DibaCMS//EN
BEGIN:VEVENT
UID:3651
DTSTAMP:20260421T012513
DTSTART:20250304T170000
DTEND:20250305T163000
SUMMARY:Enterrament de la sardina
LOCATION:Llar d'avis de Monistrol 
METHOD:PUBLISH
X-WR-CALNAME:monistrolm@monistroldemontserrat.cat
X-WR-TIMEZONE:Europe/Madrid
DESCRIPTION:Enterrament de la sardina

URI:https://www.monistroldemontserrat.cat//continguts//enterrament-de-la-sardina.html
CLASS:PUBLIC
END:VEVENT
END:VCALENDAR
