BEGIN:VCALENDAR
VERSION:2.0
CALSCALE:GREGORIAN
PRODID:-//Diputació de Barcelona//DibaCMS//EN
BEGIN:VEVENT
UID:3665
DTSTAMP:20260421T011849
DTSTART:20250327T000000
DTEND:20250330T000000
SUMMARY:Exposició 8M
LOCATION:Carrer Sant Joan, 1, 08691 Monistrol de Montserrat
METHOD:PUBLISH
X-WR-CALNAME:monistrolm@monistroldemontserrat.cat
X-WR-TIMEZONE:Europe/Madrid
DESCRIPTION:Actes del 8M a Monistrol de Montserrat

URI:https://www.monistroldemontserrat.cat//continguts//exposicio-8m.html
CLASS:PUBLIC
END:VEVENT
END:VCALENDAR
