BEGIN:VCALENDAR
VERSION:2.0
CALSCALE:GREGORIAN
PRODID:-//Diputació de Barcelona//DibaCMS//EN
BEGIN:VEVENT
UID:3670
DTSTAMP:20260421T012719
DTSTART:20250327T160000
DTEND:20250327T190000
SUMMARY:Volta Ciclista A Catalunya 2025
LOCATION:Terme municipal de Monistrol de Montserrat 
METHOD:PUBLISH
X-WR-CALNAME:monistrolm@monistroldemontserrat.cat
X-WR-TIMEZONE:Europe/Madrid
DESCRIPTION:La Volta Ciclista a Catalunya arriba a Monistrol el 27 de març amb afectacions al trànsit

El pròxim dijous 27 de març, la Volta Ciclista a Catalunya passarà per Monistrol de Montserrat, fet que comportarà diverses afectacions al trànsit. Aquest esdeveniment esportiu, que reuneix alguns dels millors ciclistes del panorama internacional, obligarà a tallar i restringir el pas de vehicles en determinades vies del municipi durant el transcurs de l'etapa.

Carreteres:
C-55:  16:00 a 17:30
BP-1121: 16:00 a 17:45

Vies urbanes:
Carrer de Santa Anna i Carrer del Pla: 16:00 a 17:30
Pont de Monistrol de Montserrat: 16:00 a 17:30
Carrer Balmes 16:00 a 17:30
Carrer de la Trinitat 16:00 a 17:45

L'Ajuntament de Monistrol recomana als veïns i visitants que planifiquin els seus desplaçaments amb antelació i consultin les restriccions previstes en el document adjunt. Així mateix, es demana comprensió i col·laboració per garantir el bon desenvolupament de la prova.

Per a més informació, es pot consultar el web municipal o les xarxes socials oficials.

URI:https://www.monistroldemontserrat.cat//continguts//3670-volta-ciclista-a-catalunya-2025.html
CLASS:PUBLIC
END:VEVENT
END:VCALENDAR
