BEGIN:VCALENDAR
VERSION:2.0
CALSCALE:GREGORIAN
PRODID:-//Diputació de Barcelona//DibaCMS//EN
BEGIN:VEVENT
UID:3676
DTSTAMP:20260421T032744
DTSTART:20250404T090000
DTEND:20250404T103000
SUMMARY:Dia mundial de l'activitat física
LOCATION:La Font Gran 08691 Monistrol de Montserrat
METHOD:PUBLISH
X-WR-CALNAME:monistrolm@monistroldemontserrat.cat
X-WR-TIMEZONE:Europe/Madrid
DESCRIPTION:🏃‍♀️🌿 Celebrem el Dia Mundial de l’Activitat Física a Monistrol de Montserrat!

URI:https://www.monistroldemontserrat.cat//continguts//dia-mundial-de-lactivitat-fisica.html
CLASS:PUBLIC
END:VEVENT
END:VCALENDAR
