BEGIN:VCALENDAR
VERSION:2.0
CALSCALE:GREGORIAN
PRODID:-//Diputació de Barcelona//DibaCMS//EN
BEGIN:VEVENT
UID:3684
DTSTAMP:20260420T235210
DTSTART:20250424T103000
DTEND:20250424T130000
SUMMARY:Unitat mòbil d'informació al consumidor 
LOCATION:
METHOD:PUBLISH
X-WR-CALNAME:monistrolm@monistroldemontserrat.cat
X-WR-TIMEZONE:Europe/Madrid
DESCRIPTION:Visita de la Unitat mòbil d'Informació al Consumidor de la Diputació de Barcelona, per atendre consultes, queixes, reclamacions i denúncies en l'àmbit de consum.

URI:https://www.monistroldemontserrat.cat//continguts//unitat-mobil-dinformacio-al-consumidor-.html
CLASS:PUBLIC
END:VEVENT
END:VCALENDAR
